BEGIN:VCALENDAR
VERSION:2.0
PRODID:-//Golfclub Almelo - ECPv6.15.20//NONSGML v1.0//EN
CALSCALE:GREGORIAN
METHOD:PUBLISH
X-WR-CALNAME:Golfclub Almelo
X-ORIGINAL-URL:https://www.golfinalmelo.nl
X-WR-CALDESC:Evenementen voor Golfclub Almelo
REFRESH-INTERVAL;VALUE=DURATION:PT1H
X-Robots-Tag:noindex
X-PUBLISHED-TTL:PT1H
BEGIN:VTIMEZONE
TZID:Europe/Amsterdam
BEGIN:DAYLIGHT
TZOFFSETFROM:+0100
TZOFFSETTO:+0200
TZNAME:CEST
DTSTART:20250330T010000
END:DAYLIGHT
BEGIN:STANDARD
TZOFFSETFROM:+0200
TZOFFSETTO:+0100
TZNAME:CET
DTSTART:20251026T010000
END:STANDARD
BEGIN:DAYLIGHT
TZOFFSETFROM:+0100
TZOFFSETTO:+0200
TZNAME:CEST
DTSTART:20260329T010000
END:DAYLIGHT
BEGIN:STANDARD
TZOFFSETFROM:+0200
TZOFFSETTO:+0100
TZNAME:CET
DTSTART:20261025T010000
END:STANDARD
BEGIN:DAYLIGHT
TZOFFSETFROM:+0100
TZOFFSETTO:+0200
TZNAME:CEST
DTSTART:20270328T010000
END:DAYLIGHT
BEGIN:STANDARD
TZOFFSETFROM:+0200
TZOFFSETTO:+0100
TZNAME:CET
DTSTART:20271031T010000
END:STANDARD
END:VTIMEZONE
BEGIN:VEVENT
DTSTART;VALUE=DATE:20260525
DTEND;VALUE=DATE:20260526
DTSTAMP:20260425T182651
CREATED:20260404T074010Z
LAST-MODIFIED:20260404T074037Z
UID:15967-1779667200-1779753599@www.golfinalmelo.nl
SUMMARY:Tweede Pinksterdag\, baan en  clubhuis open
DESCRIPTION:
URL:https://www.golfinalmelo.nl/event/tweede-pinksterdag-baan-en-clubhuis-open/
END:VEVENT
BEGIN:VEVENT
DTSTART;TZID=Europe/Amsterdam:20260526T083000
DTEND;TZID=Europe/Amsterdam:20260526T093000
DTSTAMP:20260425T182651
CREATED:20260305T230721Z
LAST-MODIFIED:20260305T234228Z
UID:15777-1779784200-1779787800@www.golfinalmelo.nl
SUMMARY:Golfclinic
DESCRIPTION:Voor Voortgezet Onderwijs Almelo
URL:https://www.golfinalmelo.nl/event/golfclinic-2/
LOCATION:Golfclub Almelo\, Veenelandenweg 34\, Almelo\, 7608HB
ORGANIZER;CN="Golfclub Almelo":MAILTO:info@golfinalmelo.nl
END:VEVENT
BEGIN:VEVENT
DTSTART;TZID=Europe/Amsterdam:20260527T130000
DTEND;TZID=Europe/Amsterdam:20260527T140000
DTSTAMP:20260425T182651
CREATED:20260305T232430Z
LAST-MODIFIED:20260305T234159Z
UID:15787-1779886800-1779890400@www.golfinalmelo.nl
SUMMARY:Golfclinic
DESCRIPTION:Voor Voortgezet Onderwijs Almelo
URL:https://www.golfinalmelo.nl/event/golfclinic-6/
LOCATION:Golfclub Almelo\, Veenelandenweg 34\, Almelo\, 7608HB
ORGANIZER;CN="Golfclub Almelo":MAILTO:info@golfinalmelo.nl
END:VEVENT
BEGIN:VEVENT
DTSTART;TZID=Europe/Amsterdam:20260603T130000
DTEND;TZID=Europe/Amsterdam:20260603T140000
DTSTAMP:20260425T182651
CREATED:20260305T232545Z
LAST-MODIFIED:20260305T234133Z
UID:15789-1780491600-1780495200@www.golfinalmelo.nl
SUMMARY:Golfclinic
DESCRIPTION:Voor Voortgezet Onderwijs Almelo
URL:https://www.golfinalmelo.nl/event/golfclinic-7/
LOCATION:Golfclub Almelo\, Veenelandenweg 34\, Almelo\, 7608HB
ORGANIZER;CN="Golfclub Almelo":MAILTO:info@golfinalmelo.nl
END:VEVENT
BEGIN:VEVENT
DTSTART;TZID=Europe/Amsterdam:20260609T083000
DTEND;TZID=Europe/Amsterdam:20260609T093000
DTSTAMP:20260425T182651
CREATED:20260305T230843Z
LAST-MODIFIED:20260305T234107Z
UID:15779-1780993800-1780997400@www.golfinalmelo.nl
SUMMARY:Golfclinic
DESCRIPTION:Voor Voortgezet Onderwijs Almelo
URL:https://www.golfinalmelo.nl/event/golfclinic-3/
LOCATION:Golfclub Almelo\, Veenelandenweg 34\, Almelo\, 7608HB
ORGANIZER;CN="Golfclub Almelo":MAILTO:info@golfinalmelo.nl
END:VEVENT
END:VCALENDAR