BEGIN:VCALENDAR
VERSION:2.0
PRODID:-//Golfclub Almelo - ECPv6.15.20//NONSGML v1.0//EN
CALSCALE:GREGORIAN
METHOD:PUBLISH
X-WR-CALNAME:Golfclub Almelo
X-ORIGINAL-URL:https://www.golfinalmelo.nl
X-WR-CALDESC:Evenementen voor Golfclub Almelo
REFRESH-INTERVAL;VALUE=DURATION:PT1H
X-Robots-Tag:noindex
X-PUBLISHED-TTL:PT1H
BEGIN:VTIMEZONE
TZID:Europe/Amsterdam
BEGIN:DAYLIGHT
TZOFFSETFROM:+0100
TZOFFSETTO:+0200
TZNAME:CEST
DTSTART:20250330T010000
END:DAYLIGHT
BEGIN:STANDARD
TZOFFSETFROM:+0200
TZOFFSETTO:+0100
TZNAME:CET
DTSTART:20251026T010000
END:STANDARD
BEGIN:DAYLIGHT
TZOFFSETFROM:+0100
TZOFFSETTO:+0200
TZNAME:CEST
DTSTART:20260329T010000
END:DAYLIGHT
BEGIN:STANDARD
TZOFFSETFROM:+0200
TZOFFSETTO:+0100
TZNAME:CET
DTSTART:20261025T010000
END:STANDARD
BEGIN:DAYLIGHT
TZOFFSETFROM:+0100
TZOFFSETTO:+0200
TZNAME:CEST
DTSTART:20270328T010000
END:DAYLIGHT
BEGIN:STANDARD
TZOFFSETFROM:+0200
TZOFFSETTO:+0100
TZNAME:CET
DTSTART:20271031T010000
END:STANDARD
END:VTIMEZONE
BEGIN:VEVENT
DTSTART;TZID=Europe/Amsterdam:20260426T123000
DTEND;TZID=Europe/Amsterdam:20260426T170000
DTSTAMP:20260426T042142
CREATED:20260409T204921Z
LAST-MODIFIED:20260418T150123Z
UID:15971-1777206600-1777222800@www.golfinalmelo.nl
SUMMARY:KONINGSDAG - FUNWEDSTRIJD 2026
DESCRIPTION:Op zondag 26 april houden wij een gezellige Koningsdag-Funwedstrijd. \nMen kan voor 9 of 18 holes kiezen. (Zie instructies hieronder). We spelen de Landlus. We starten om 13.00 uur. \nWedstrijd informatie \nDe wedstrijd staat open voor leden en ook niet leden kunnen meedoen (met een greenfee). Een baanbewijs is vereist. \nWij spelen een vorm van greensome met stablefordverrekening• \nWe dragen golfkleding met een feestelijk oranje tintje. \nEr zijn leuke prijzen te winnen. \nKosten deelname € 5 inclusief een drankje en hapje bij het passeren van ons clubhuis. \nHet clubhuis is vanaf 12.30 uur geopend. \nDe baan is van 13.00 uur tot 16.00 uur gesloten voor niet deelnemers. \nDe inschrijving staat open in NexxChange en sluit op vrijdag 24 april om 18.00 uur. Na die tijd wordt u op de reservelijst geplaatst. Wij rekenen net als vorig jaar op veel belangstelling\, dus schrijf je snel in! \nAls je alleen 9 holes\, i.p.v. 18\, wilt spelen\, dan moet je bij het inschrijven het vinkje van de registratievraag aanklikken. \nGroeten en tot ziens bij de koningsdag-funwedstrijd. \nDe zomerwedstrijdkommissie: (ZWC) \nEddy Huizenga \nTon Biemans \nMarie-Anne Nijkamp \nLiesbeth Eeftinck Schattenkerk (Vragen via email naar: liesbetheeftinck@gmail.com ) \n\nmax handicap verrekening gaat uit van 40 (HCP limiet )
URL:https://www.golfinalmelo.nl/event/koningsdag-funwedstrijd-2026/
LOCATION:Golfclub Almelo\, Veenelandenweg 34\, Almelo\, 7608HB
ATTACH;FMTTYPE=image/jpeg:https://www.golfinalmelo.nl/wp-content/uploads/2026/04/Koninksdag.jpg
ORGANIZER;CN="Golfclub Almelo":MAILTO:info@golfinalmelo.nl
END:VEVENT
BEGIN:VEVENT
DTSTART;TZID=Europe/Amsterdam:20260424T120000
DTEND;TZID=Europe/Amsterdam:20260424T170000
DTSTAMP:20260426T042142
CREATED:20260310T214523Z
LAST-MODIFIED:20260417T144254Z
UID:15834-1777032000-1777050000@www.golfinalmelo.nl
SUMMARY:Vrijdag 24 april is de baan open voor alle leden (Herenmiddag donderdag 23 april)
DESCRIPTION:
URL:https://www.golfinalmelo.nl/event/ngf-competitie-2/
LOCATION:Golfclub Almelo\, Veenelandenweg 34\, Almelo\, 7608HB
END:VEVENT
BEGIN:VEVENT
DTSTART;TZID=Europe/Amsterdam:20260423T123000
DTEND;TZID=Europe/Amsterdam:20260423T170000
DTSTAMP:20260426T042142
CREATED:20260310T214348Z
LAST-MODIFIED:20260417T143223Z
UID:15832-1776947400-1776963600@www.golfinalmelo.nl
SUMMARY:Herenmiddag donderdag 23 april  i.vm. NGF-competitie - Drivingrange is hele dag gesloten!
DESCRIPTION:Doordat  de NGF competitie op deze vrijdag plaatsvindt op onze baan is de herenmiddag verplaatst.
URL:https://www.golfinalmelo.nl/event/herenmiddag-vandaag/
LOCATION:Golfclub Almelo\, Veenelandenweg 34\, Almelo\, 7608HB
ORGANIZER;CN="Golfclub Almelo":MAILTO:info@golfinalmelo.nl
END:VEVENT
BEGIN:VEVENT
DTSTART;TZID=Europe/Amsterdam:20260417T120000
DTEND;TZID=Europe/Amsterdam:20260417T170000
DTSTAMP:20260426T042142
CREATED:20260325T105724Z
LAST-MODIFIED:20260416T100900Z
UID:15910-1776427200-1776445200@www.golfinalmelo.nl
SUMMARY:Vrijdag 17 april geen herenmiddag. De GCA baan is voor alle leden beschikbaar.
DESCRIPTION:NGF link naar indeling \nPINKRIBON \n 
URL:https://www.golfinalmelo.nl/event/ngf-competitie-baan-alleen-open-voor-deelnemers/
ATTACH;FMTTYPE=image/png:https://www.golfinalmelo.nl/wp-content/uploads/2026/03/Scherm­afbeelding-2026-03-25-om-13.06.12.png
END:VEVENT
BEGIN:VEVENT
DTSTART;TZID=Europe/Amsterdam:20260417T080000
DTEND;TZID=Europe/Amsterdam:20260417T170000
DTSTAMP:20260426T042142
CREATED:20260417T144539Z
LAST-MODIFIED:20260417T144539Z
UID:15997-1776412800-1776445200@www.golfinalmelo.nl
SUMMARY:Vrijdag 1 mei NGF competitie team 2 - de baan is alleen open voor deelnmers
DESCRIPTION:
URL:https://www.golfinalmelo.nl/event/vrijdag-1-mei-ngf-competitie-team-2-de-baan-is-alleen-open-voor-deelnmers/
END:VEVENT
END:VCALENDAR